BEGIN:VCALENDAR
VERSION:2.0
PRODID:-//Flagpole Photographers Camera Club//NONSGML Events//EN
METHOD:PUBLISH
BEGIN:VEVENT
UID:event_46932@flagpolephotographers.com
DTSTAMP:20260422T111600Z
DTSTART:20260409T233000Z
DTEND:20260410T010000Z
SUMMARY:From Studio to Garden: Flower Photography Program by Sandy Schill
DESCRIPTION:View Event Details:\nhttps://flagpolephotographers.com/club-events/program-flowers-202604/\n\n---\n\nWHEN WHERE Add to Calendar Join the Flagpole Photographers for an enchanting evening dedicated to capturing the delicate beauty of flowers\, both indoors and out\, presented by the highly acclaimed Sandy Schill\, NECCC MNEC! This program explores the captivating world of flower photography in diverse settings. Whether you’re working with controlled lighting for intricate close-ups […]
LOCATION:Newtown Senior Center
X-MICROSOFT-CDO-BUSYSTATUS:BUSY
X-MICROSOFT-CDO-IMPORTANCE:1
TRANSP:OPAQUE
BEGIN:VALARM
TRIGGER:-PT60M
ACTION:DISPLAY
DESCRIPTION:Reminder
END:VALARM
END:VEVENT
END:VCALENDAR